Package: regutools Version: 1.18.0 Command: /Library/Frameworks/R.framework/Resources/bin/R CMD INSTALL regutools StartedAt: 2025-01-30 16:11:03 -0500 (Thu, 30 Jan 2025) EndedAt: 2025-01-30 16:12:56 -0500 (Thu, 30 Jan 2025) EllapsedTime: 113.1 seconds RetCode: 0 Status: OK