Package: regutools Version: 1.18.0 Command: /home/biocbuild/bbs-3.20-bioc/R/bin/R CMD INSTALL regutools StartedAt: 2025-01-30 15:40:47 -0500 (Thu, 30 Jan 2025) EndedAt: 2025-01-30 15:42:01 -0500 (Thu, 30 Jan 2025) EllapsedTime: 73.5 seconds RetCode: 0 Status: OK