Package: retrofit Version: 1.6.0 Command: /home/biocbuild/R/R/bin/R CMD build --keep-empty-dirs --no-resave-data retrofit StartedAt: 2024-11-20 03:19:53 -0000 (Wed, 20 Nov 2024) EndedAt: 2024-11-20 03:21:04 -0000 (Wed, 20 Nov 2024) EllapsedTime: 71.1 seconds RetCode: 0 Status: OK PackageFile: retrofit_1.6.0.tar.gz PackageFileSize: 3.9 MiB