Package: retrofit Version: 1.6.0 Command: /Library/Frameworks/R.framework/Resources/bin/R CMD INSTALL retrofit StartedAt: 2025-02-10 15:04:50 -0500 (Mon, 10 Feb 2025) EndedAt: 2025-02-10 15:05:32 -0500 (Mon, 10 Feb 2025) EllapsedTime: 41.6 seconds RetCode: 0 Status: OK