Package: retrofit Version: 1.6.0 Command: rm -rf retrofit.buildbin-libdir && mkdir retrofit.buildbin-libdir && F:\biocbuild\bbs-3.20-bioc\R\bin\R.exe CMD INSTALL --build --library=retrofit.buildbin-libdir retrofit_1.6.0.tar.gz StartedAt: 2025-02-11 09:16:59 -0500 (Tue, 11 Feb 2025) EndedAt: 2025-02-11 09:17:30 -0500 (Tue, 11 Feb 2025) EllapsedTime: 30.6 seconds RetCode: 0 Status: OK PackageFile: retrofit_1.6.0.zip PackageFileSize: 3.969 MiB