Package: retrofit Version: 1.6.0 Command: /home/biocbuild/R/R/bin/R CMD build --keep-empty-dirs --no-resave-data retrofit StartedAt: 2025-02-04 02:13:22 -0000 (Tue, 04 Feb 2025) EndedAt: 2025-02-04 02:14:26 -0000 (Tue, 04 Feb 2025) EllapsedTime: 64.1 seconds RetCode: 0 Status: OK PackageFile: retrofit_1.6.0.tar.gz PackageFileSize: 3.895 MiB