Package: rexposome Version: 1.28.0 Command: /home/biocbuild/bbs-3.20-bioc/R/bin/R CMD build --keep-empty-dirs --no-resave-data --md5 rexposome StartedAt: 2025-02-03 18:58:09 -0500 (Mon, 03 Feb 2025) EndedAt: 2025-02-03 18:59:36 -0500 (Mon, 03 Feb 2025) EllapsedTime: 87.1 seconds RetCode: 0 Status: OK PackageFile: rexposome_1.28.0.tar.gz PackageFileSize: 8.063 MiB