Package: rexposome Version: 1.28.0 Command: chmod a+r rexposome -R && F:\biocbuild\bbs-3.20-bioc\R\bin\R.exe CMD build --keep-empty-dirs --no-resave-data rexposome StartedAt: 2025-02-10 21:32:00 -0500 (Mon, 10 Feb 2025) EndedAt: 2025-02-10 21:35:43 -0500 (Mon, 10 Feb 2025) EllapsedTime: 223.0 seconds RetCode: 0 Status: OK PackageFile: rexposome_1.28.0.tar.gz PackageFileSize: 5.516 MiB