Package: rexposome Version: 1.28.0 Command: /home/biocbuild/R/R/bin/R CMD build --keep-empty-dirs --no-resave-data rexposome StartedAt: 2025-01-31 02:07:37 -0000 (Fri, 31 Jan 2025) EndedAt: 2025-01-31 02:09:53 -0000 (Fri, 31 Jan 2025) EllapsedTime: 136.1 seconds RetCode: 0 Status: OK PackageFile: rexposome_1.28.0.tar.gz PackageFileSize: 5.787 MiB