Package: rexposome Version: 1.28.0 Command: /home/biocbuild/R/R/bin/R CMD INSTALL rexposome StartedAt: 2025-01-30 20:58:02 -0000 (Thu, 30 Jan 2025) EndedAt: 2025-01-30 20:58:30 -0000 (Thu, 30 Jan 2025) EllapsedTime: 27.6 seconds RetCode: 0 Status: OK