Package: rfPred Version: 1.44.0 Command: /Library/Frameworks/R.framework/Resources/bin/R CMD build --keep-empty-dirs --no-resave-data rfPred StartedAt: 2025-02-04 06:33:44 -0500 (Tue, 04 Feb 2025) EndedAt: 2025-02-04 06:34:10 -0500 (Tue, 04 Feb 2025) EllapsedTime: 26.3 seconds RetCode: 0 Status: OK PackageFile: rfPred_1.44.0.tar.gz PackageFileSize: 1.053 MiB