Package: rfPred Version: 1.44.0 Command: /Library/Frameworks/R.framework/Resources/bin/R CMD INSTALL rfPred StartedAt: 2025-02-03 15:45:03 -0500 (Mon, 03 Feb 2025) EndedAt: 2025-02-03 15:45:17 -0500 (Mon, 03 Feb 2025) EllapsedTime: 14.4 seconds RetCode: 0 Status: OK