Package: rfPred Version: 1.44.0 Command: /Library/Frameworks/R.framework/Resources/bin/R CMD build --keep-empty-dirs --no-resave-data rfPred StartedAt: 2025-02-03 21:41:19 -0500 (Mon, 03 Feb 2025) EndedAt: 2025-02-03 21:42:03 -0500 (Mon, 03 Feb 2025) EllapsedTime: 44.3 seconds RetCode: 0 Status: OK PackageFile: rfPred_1.44.0.tar.gz PackageFileSize: 1.053 MiB