Package: rfaRm Version: 1.18.0 Command: /Library/Frameworks/R.framework/Resources/bin/R CMD build --keep-empty-dirs --no-resave-data rfaRm StartedAt: 2025-02-03 21:40:56 -0500 (Mon, 03 Feb 2025) EndedAt: 2025-02-03 21:42:02 -0500 (Mon, 03 Feb 2025) EllapsedTime: 66.5 seconds RetCode: 0 Status: OK PackageFile: rfaRm_1.18.0.tar.gz PackageFileSize: 560.9 KiB