Package: rfaRm Version: 1.18.0 Command: /Library/Frameworks/R.framework/Resources/bin/R CMD INSTALL rfaRm StartedAt: 2025-02-03 16:39:24 -0500 (Mon, 03 Feb 2025) EndedAt: 2025-02-03 16:39:53 -0500 (Mon, 03 Feb 2025) EllapsedTime: 28.7 seconds RetCode: 0 Status: OK