Package: rfaRm Version: 1.18.0 Command: chmod a+r rfaRm -R && F:\biocbuild\bbs-3.20-bioc\R\bin\R.exe CMD build --keep-empty-dirs --no-resave-data rfaRm StartedAt: 2025-02-10 21:32:01 -0500 (Mon, 10 Feb 2025) EndedAt: 2025-02-10 21:33:04 -0500 (Mon, 10 Feb 2025) EllapsedTime: 62.9 seconds RetCode: 0 Status: OK PackageFile: rfaRm_1.18.0.tar.gz PackageFileSize: 441.7 KiB