Package: rfaRm Version: 1.18.0 Command: /home/biocbuild/R/R/bin/R CMD check --install=check:rfaRm.install-out.txt --library=/home/biocbuild/R/R/site-library --no-vignettes --timings rfaRm_1.18.0.tar.gz StartedAt: 2025-02-11 09:42:13 -0000 (Tue, 11 Feb 2025) EndedAt: 2025-02-11 09:45:02 -0000 (Tue, 11 Feb 2025) EllapsedTime: 168.3 seconds RetCode: 0 Status: OK CheckDir: rfaRm.Rcheck Warnings: 0