Package: rhdf5 Version: 2.50.2 Command: /Library/Frameworks/R.framework/Resources/bin/R CMD check --install=check:rhdf5.install-out.txt --library=/Library/Frameworks/R.framework/Resources/library --no-vignettes --timings rhdf5_2.50.2.tar.gz StartedAt: 2025-02-05 07:25:58 -0500 (Wed, 05 Feb 2025) EndedAt: 2025-02-05 07:26:59 -0500 (Wed, 05 Feb 2025) EllapsedTime: 60.8 seconds RetCode: 0 Status: WARNINGS CheckDir: rhdf5.Rcheck Warnings: 1