Package: rhdf5 Version: 2.50.2 Command: /Library/Frameworks/R.framework/Resources/bin/R CMD INSTALL rhdf5 StartedAt: 2025-02-03 15:16:19 -0500 (Mon, 03 Feb 2025) EndedAt: 2025-02-03 15:16:35 -0500 (Mon, 03 Feb 2025) EllapsedTime: 15.5 seconds RetCode: 0 Status: OK