############################################################################## ############################################################################## ### ### Running command: ### ### rm -rf rhdf5.buildbin-libdir && mkdir rhdf5.buildbin-libdir && /Users/biocbuild/BBS/utils/build-universal.sh rhdf5_2.50.2.tar.gz /Library/Frameworks/R.framework/Resources/bin/R rhdf5.buildbin-libdir ### ############################################################################## ############################################################################## >>>>>>> >>>>>>> INSTALLATION WITH 'R CMD INSTALL --preclean --no-multiarch --library=rhdf5.buildbin-libdir rhdf5_2.50.2.tar.gz' >>>>>>> Fatal error: cannot create 'R_TempDir'