Package: rhdf5 Version: 2.50.2 Command: /Library/Frameworks/R.framework/Resources/bin/R CMD check --install=check:rhdf5.install-out.txt --library=/Library/Frameworks/R.framework/Resources/library --no-vignettes --timings rhdf5_2.50.2.tar.gz StartedAt: 2025-02-04 08:56:34 -0500 (Tue, 04 Feb 2025) EndedAt: 2025-02-04 08:58:22 -0500 (Tue, 04 Feb 2025) EllapsedTime: 108.6 seconds RetCode: 0 Status: WARNINGS CheckDir: rhdf5.Rcheck Warnings: 1