Package: rhdf5 Version: 2.50.2 Command: /home/biocbuild/bbs-3.20-bioc/R/bin/R CMD check --install=check:rhdf5.install-out.txt --library=/home/biocbuild/bbs-3.20-bioc/R/site-library --timings rhdf5_2.50.2.tar.gz StartedAt: 2025-02-04 01:46:52 -0500 (Tue, 04 Feb 2025) EndedAt: 2025-02-04 01:52:50 -0500 (Tue, 04 Feb 2025) EllapsedTime: 357.5 seconds RetCode: 0 Status: WARNINGS CheckDir: rhdf5.Rcheck Warnings: 1