Package: rhdf5 Version: 2.50.2 Command: /home/biocbuild/bbs-3.20-bioc/R/bin/R CMD INSTALL rhdf5 StartedAt: 2025-02-03 15:18:45 -0500 (Mon, 03 Feb 2025) EndedAt: 2025-02-03 15:18:57 -0500 (Mon, 03 Feb 2025) EllapsedTime: 11.2 seconds RetCode: 0 Status: OK