Package: rhdf5 Version: 2.50.2 Command: rm -rf rhdf5.buildbin-libdir && mkdir rhdf5.buildbin-libdir && F:\biocbuild\bbs-3.20-bioc\R\bin\R.exe CMD INSTALL --build --library=rhdf5.buildbin-libdir rhdf5_2.50.2.tar.gz StartedAt: 2025-02-11 09:17:34 -0500 (Tue, 11 Feb 2025) EndedAt: 2025-02-11 09:19:07 -0500 (Tue, 11 Feb 2025) EllapsedTime: 92.7 seconds RetCode: 0 Status: OK PackageFile: rhdf5_2.50.2.zip PackageFileSize: 4.368 MiB