Package: rhdf5 Version: 2.50.2 Command: chmod a+r rhdf5 -R && F:\biocbuild\bbs-3.20-bioc\R\bin\R.exe CMD build --keep-empty-dirs --no-resave-data rhdf5 StartedAt: 2025-02-03 21:40:04 -0500 (Mon, 03 Feb 2025) EndedAt: 2025-02-03 21:43:24 -0500 (Mon, 03 Feb 2025) EllapsedTime: 200.3 seconds RetCode: 0 Status: OK PackageFile: rhdf5_2.50.2.tar.gz PackageFileSize: 1.2 MiB