Package: rhdf5 Version: 2.50.2 Command: F:\biocbuild\bbs-3.20-bioc\R\bin\R.exe CMD check --no-multiarch --install=check:rhdf5.install-out.txt --library=F:\biocbuild\bbs-3.20-bioc\R\library --no-vignettes --timings rhdf5_2.50.2.tar.gz StartedAt: 2025-02-04 05:31:37 -0500 (Tue, 04 Feb 2025) EndedAt: 2025-02-04 05:33:48 -0500 (Tue, 04 Feb 2025) EllapsedTime: 131.7 seconds RetCode: 0 Status: WARNINGS CheckDir: rhdf5.Rcheck Warnings: 1