Package: rhdf5 Version: 2.50.2 Command: /home/biocbuild/R/R/bin/R CMD build --keep-empty-dirs --no-resave-data rhdf5 StartedAt: 2025-02-04 02:14:38 -0000 (Tue, 04 Feb 2025) EndedAt: 2025-02-04 02:54:38 -0000 (Tue, 04 Feb 2025) EllapsedTime: 2400.3 seconds RetCode: None Status: TIMEOUT PackageFile: None PackageFileSize: NA