Package: rhdf5client Version: 1.28.0 Command: rm -rf rhdf5client.buildbin-libdir && mkdir rhdf5client.buildbin-libdir && /Users/biocbuild/BBS/utils/build-universal.sh rhdf5client_1.28.0.tar.gz /Library/Frameworks/R.framework/Resources/bin/R rhdf5client.buildbin-libdir StartedAt: 2025-02-05 17:24:41 -0500 (Wed, 05 Feb 2025) EndedAt: 2025-02-05 17:25:04 -0500 (Wed, 05 Feb 2025) EllapsedTime: 22.4 seconds RetCode: 0 Status: OK PackageFile: rhdf5client_1.28.0.tgz PackageFileSize: 984.9 KiB