Package: rhdf5client Version: 1.28.0 Command: /Library/Frameworks/R.framework/Resources/bin/R CMD check --install=check:rhdf5client.install-out.txt --library=/Library/Frameworks/R.framework/Resources/library --no-vignettes --timings rhdf5client_1.28.0.tar.gz StartedAt: 2025-02-05 07:26:49 -0500 (Wed, 05 Feb 2025) EndedAt: 2025-02-05 07:39:36 -0500 (Wed, 05 Feb 2025) EllapsedTime: 767.6 seconds RetCode: 1 Status: ERROR CheckDir: rhdf5client.Rcheck Warnings: NA