Package: rhdf5client Version: 1.28.0 Command: rm -rf rhdf5client.buildbin-libdir && mkdir rhdf5client.buildbin-libdir && /Users/biocbuild/BBS/utils/build-universal.sh rhdf5client_1.28.0.tar.gz /Library/Frameworks/R.framework/Resources/bin/R rhdf5client.buildbin-libdir StartedAt: 2024-11-09 17:07:25 -0500 (Sat, 09 Nov 2024) EndedAt: 2024-11-09 17:07:33 -0500 (Sat, 09 Nov 2024) EllapsedTime: 8.1 seconds RetCode: 0 Status: OK PackageFile: rhdf5client_1.28.0.tgz PackageFileSize: 986.4 KiB