Package: rhdf5client Version: 1.28.0 Command: /Library/Frameworks/R.framework/Resources/bin/R CMD build --keep-empty-dirs --no-resave-data rhdf5client StartedAt: 2024-11-08 18:48:22 -0500 (Fri, 08 Nov 2024) EndedAt: 2024-11-08 18:48:34 -0500 (Fri, 08 Nov 2024) EllapsedTime: 12.1 seconds RetCode: 0 Status: OK PackageFile: rhdf5client_1.28.0.tar.gz PackageFileSize: 531.2 KiB