Package: rhdf5client Version: 1.28.0 Command: /Library/Frameworks/R.framework/Resources/bin/R CMD check --install=check:rhdf5client.install-out.txt --library=/Library/Frameworks/R.framework/Resources/library --no-vignettes --timings rhdf5client_1.28.0.tar.gz StartedAt: 2024-11-09 11:22:41 -0500 (Sat, 09 Nov 2024) EndedAt: 2024-11-09 11:27:19 -0500 (Sat, 09 Nov 2024) EllapsedTime: 277.7 seconds RetCode: 0 Status: OK CheckDir: rhdf5client.Rcheck Warnings: 0