Package: rhdf5client Version: 1.28.0 Command: /home/biocbuild/bbs-3.20-bioc/R/bin/R CMD check --install=check:rhdf5client.install-out.txt --library=/home/biocbuild/bbs-3.20-bioc/R/site-library --timings rhdf5client_1.28.0.tar.gz StartedAt: 2025-02-04 01:47:07 -0500 (Tue, 04 Feb 2025) EndedAt: 2025-02-04 01:49:15 -0500 (Tue, 04 Feb 2025) EllapsedTime: 128.3 seconds RetCode: 0 Status: OK CheckDir: rhdf5client.Rcheck Warnings: 0