Package: rhdf5client Version: 1.28.0 Command: /home/biocbuild/bbs-3.20-bioc/R/bin/R CMD INSTALL rhdf5client StartedAt: 2025-02-03 15:18:45 -0500 (Mon, 03 Feb 2025) EndedAt: 2025-02-03 15:19:02 -0500 (Mon, 03 Feb 2025) EllapsedTime: 17.5 seconds RetCode: 0 Status: OK