Package: rhdf5client Version: 1.27.1 Command: chmod a+r rhdf5client -R && F:\biocbuild\bbs-3.20-bioc\R\bin\R.exe CMD build --keep-empty-dirs --no-resave-data rhdf5client StartedAt: 2024-06-09 21:42:28 -0400 (Sun, 09 Jun 2024) EndedAt: 2024-06-09 21:43:33 -0400 (Sun, 09 Jun 2024) EllapsedTime: 65.2 seconds RetCode: 0 Status: OK PackageFile: rhdf5client_1.27.1.tar.gz PackageFileSize: 531.8 KiB