Package: rhdf5client Version: 1.28.0 Command: rm -rf rhdf5client.buildbin-libdir && mkdir rhdf5client.buildbin-libdir && F:\biocbuild\bbs-3.20-bioc\R\bin\R.exe CMD INSTALL --build --library=rhdf5client.buildbin-libdir rhdf5client_1.28.0.tar.gz StartedAt: 2025-02-04 09:20:17 -0500 (Tue, 04 Feb 2025) EndedAt: 2025-02-04 09:21:22 -0500 (Tue, 04 Feb 2025) EllapsedTime: 65.6 seconds RetCode: 0 Status: OK PackageFile: rhdf5client_1.28.0.zip PackageFileSize: 989 KiB