Package: rhdf5client Version: 1.28.0 Command: /home/biocbuild/R/R/bin/R CMD check --install=check:rhdf5client.install-out.txt --library=/home/biocbuild/R/R/site-library --no-vignettes --timings rhdf5client_1.28.0.tar.gz StartedAt: 2025-02-11 09:45:00 -0000 (Tue, 11 Feb 2025) EndedAt: 2025-02-11 09:47:49 -0000 (Tue, 11 Feb 2025) EllapsedTime: 169.3 seconds RetCode: 0 Status: OK CheckDir: rhdf5client.Rcheck Warnings: 0