Package: riboSeqR Version: 1.40.0 Command: rm -rf riboSeqR.buildbin-libdir && mkdir riboSeqR.buildbin-libdir && /Users/biocbuild/BBS/utils/build-universal.sh riboSeqR_1.40.0.tar.gz /Library/Frameworks/R.framework/Resources/bin/R riboSeqR.buildbin-libdir StartedAt: 2025-02-01 16:32:05 -0500 (Sat, 01 Feb 2025) EndedAt: 2025-02-01 16:32:25 -0500 (Sat, 01 Feb 2025) EllapsedTime: 19.3 seconds RetCode: 0 Status: OK PackageFile: riboSeqR_1.40.0.tgz PackageFileSize: 3.945 MiB