Package: riboSeqR Version: 1.40.0 Command: /home/biocbuild/bbs-3.20-bioc/R/bin/R CMD build --keep-empty-dirs --no-resave-data --md5 riboSeqR StartedAt: 2025-01-30 18:50:13 -0500 (Thu, 30 Jan 2025) EndedAt: 2025-01-30 18:50:36 -0500 (Thu, 30 Jan 2025) EllapsedTime: 23.0 seconds RetCode: 0 Status: OK PackageFile: riboSeqR_1.40.0.tar.gz PackageFileSize: 3.651 MiB