Package: riboSeqR Version: 1.40.0 Command: rm -rf riboSeqR.buildbin-libdir && mkdir riboSeqR.buildbin-libdir && F:\biocbuild\bbs-3.20-bioc\R\bin\R.exe CMD INSTALL --build --library=riboSeqR.buildbin-libdir riboSeqR_1.40.0.tar.gz StartedAt: 2025-01-31 09:26:56 -0500 (Fri, 31 Jan 2025) EndedAt: 2025-01-31 09:27:30 -0500 (Fri, 31 Jan 2025) EllapsedTime: 34.3 seconds RetCode: 0 Status: OK PackageFile: riboSeqR_1.40.0.zip PackageFileSize: 3.948 MiB