Package: ribor Version: 1.18.0 Command: /Library/Frameworks/R.framework/Resources/bin/R CMD check --install=check:ribor.install-out.txt --library=/Library/Frameworks/R.framework/Resources/library --no-vignettes --timings ribor_1.18.0.tar.gz StartedAt: 2025-02-05 07:34:53 -0500 (Wed, 05 Feb 2025) EndedAt: 2025-02-05 07:36:47 -0500 (Wed, 05 Feb 2025) EllapsedTime: 113.9 seconds RetCode: 0 Status: OK CheckDir: ribor.Rcheck Warnings: 0