Package: ribor Version: 1.18.0 Command: /home/biocbuild/bbs-3.20-bioc/R/bin/R CMD INSTALL ribor StartedAt: 2025-02-03 15:18:58 -0500 (Mon, 03 Feb 2025) EndedAt: 2025-02-03 15:19:06 -0500 (Mon, 03 Feb 2025) EllapsedTime: 7.9 seconds RetCode: 0 Status: OK