Package: ribor Version: 1.18.0 Command: rm -rf ribor.buildbin-libdir && mkdir ribor.buildbin-libdir && F:\biocbuild\bbs-3.20-bioc\R\bin\R.exe CMD INSTALL --build --library=ribor.buildbin-libdir ribor_1.18.0.tar.gz StartedAt: 2025-02-04 09:20:57 -0500 (Tue, 04 Feb 2025) EndedAt: 2025-02-04 09:21:28 -0500 (Tue, 04 Feb 2025) EllapsedTime: 31.4 seconds RetCode: 0 Status: OK PackageFile: ribor_1.18.0.zip PackageFileSize: 4.088 MiB