Package: ribor Version: 1.18.0 Command: F:\biocbuild\bbs-3.20-bioc\R\bin\R.exe CMD check --no-multiarch --install=check:ribor.install-out.txt --library=F:\biocbuild\bbs-3.20-bioc\R\library --no-vignettes --timings ribor_1.18.0.tar.gz StartedAt: 2025-02-11 05:29:00 -0500 (Tue, 11 Feb 2025) EndedAt: 2025-02-11 05:31:00 -0500 (Tue, 11 Feb 2025) EllapsedTime: 120.1 seconds RetCode: 0 Status: OK CheckDir: ribor.Rcheck Warnings: 0