Package: ribor Version: 1.18.0 Command: /home/biocbuild/R/R/bin/R CMD INSTALL ribor StartedAt: 2025-02-10 20:16:26 -0000 (Mon, 10 Feb 2025) EndedAt: 2025-02-10 20:16:45 -0000 (Mon, 10 Feb 2025) EllapsedTime: 18.8 seconds RetCode: 0 Status: OK