Package: ribosomeProfilingQC Version: 1.18.0 Command: rm -rf ribosomeProfilingQC.buildbin-libdir && mkdir ribosomeProfilingQC.buildbin-libdir && /Users/biocbuild/BBS/utils/build-universal.sh ribosomeProfilingQC_1.18.0.tar.gz /Library/Frameworks/R.framework/Resources/bin/R ribosomeProfilingQC.buildbin-libdir StartedAt: 2025-02-01 16:32:25 -0500 (Sat, 01 Feb 2025) EndedAt: 2025-02-01 16:33:36 -0500 (Sat, 01 Feb 2025) EllapsedTime: 71.1 seconds RetCode: 0 Status: OK PackageFile: ribosomeProfilingQC_1.18.0.tgz PackageFileSize: 3.821 MiB