Package: ribosomeProfilingQC Version: 1.18.0 Command: /Library/Frameworks/R.framework/Resources/bin/R CMD check --install=check:ribosomeProfilingQC.install-out.txt --library=/Library/Frameworks/R.framework/Resources/library --no-vignettes --timings ribosomeProfilingQC_1.18.0.tar.gz StartedAt: 2025-02-01 06:47:48 -0500 (Sat, 01 Feb 2025) EndedAt: 2025-02-01 06:57:26 -0500 (Sat, 01 Feb 2025) EllapsedTime: 578.6 seconds RetCode: 0 Status: OK CheckDir: ribosomeProfilingQC.Rcheck Warnings: 0