Package: ribosomeProfilingQC Version: 1.18.0 Command: /Library/Frameworks/R.framework/Resources/bin/R CMD INSTALL ribosomeProfilingQC StartedAt: 2024-11-08 15:36:09 -0500 (Fri, 08 Nov 2024) EndedAt: 2024-11-08 15:36:29 -0500 (Fri, 08 Nov 2024) EllapsedTime: 20.3 seconds RetCode: 0 Status: OK