Package: ribosomeProfilingQC Version: 1.18.0 Command: rm -rf ribosomeProfilingQC.buildbin-libdir && mkdir ribosomeProfilingQC.buildbin-libdir && /Users/biocbuild/BBS/utils/build-universal.sh ribosomeProfilingQC_1.18.0.tar.gz /Library/Frameworks/R.framework/Resources/bin/R ribosomeProfilingQC.buildbin-libdir StartedAt: 2025-02-04 14:00:06 -0500 (Tue, 04 Feb 2025) EndedAt: 2025-02-04 14:03:01 -0500 (Tue, 04 Feb 2025) EllapsedTime: 175.0 seconds RetCode: 0 Status: OK PackageFile: ribosomeProfilingQC_1.18.0.tgz PackageFileSize: 3.82 MiB