Package: ribosomeProfilingQC Version: 1.18.0 Command: /Library/Frameworks/R.framework/Resources/bin/R CMD INSTALL ribosomeProfilingQC StartedAt: 2025-02-03 16:12:35 -0500 (Mon, 03 Feb 2025) EndedAt: 2025-02-03 16:14:30 -0500 (Mon, 03 Feb 2025) EllapsedTime: 114.7 seconds RetCode: 0 Status: OK